BEGIN:VCALENDAR
VERSION:2.0
PRODID:-//Pacific Crest Youth Arts Organization - ECPv6.15.18//NONSGML v1.0//EN
CALSCALE:GREGORIAN
METHOD:PUBLISH
X-WR-CALNAME:Pacific Crest Youth Arts Organization
X-ORIGINAL-URL:https://pacific-crest.org
X-WR-CALDESC:Events for Pacific Crest Youth Arts Organization
REFRESH-INTERVAL;VALUE=DURATION:PT1H
X-Robots-Tag:noindex
X-PUBLISHED-TTL:PT1H
BEGIN:VTIMEZONE
TZID:America/Los_Angeles
BEGIN:DAYLIGHT
TZOFFSETFROM:-0800
TZOFFSETTO:-0700
TZNAME:PDT
DTSTART:20210314T100000
END:DAYLIGHT
BEGIN:STANDARD
TZOFFSETFROM:-0700
TZOFFSETTO:-0800
TZNAME:PST
DTSTART:20211107T090000
END:STANDARD
BEGIN:DAYLIGHT
TZOFFSETFROM:-0800
TZOFFSETTO:-0700
TZNAME:PDT
DTSTART:20220313T100000
END:DAYLIGHT
BEGIN:STANDARD
TZOFFSETFROM:-0700
TZOFFSETTO:-0800
TZNAME:PST
DTSTART:20221106T090000
END:STANDARD
BEGIN:DAYLIGHT
TZOFFSETFROM:-0800
TZOFFSETTO:-0700
TZNAME:PDT
DTSTART:20230312T100000
END:DAYLIGHT
BEGIN:STANDARD
TZOFFSETFROM:-0700
TZOFFSETTO:-0800
TZNAME:PST
DTSTART:20231105T090000
END:STANDARD
END:VTIMEZONE
BEGIN:VEVENT
DTSTART;TZID=America/Los_Angeles:20220801T000000
DTEND;TZID=America/Los_Angeles:20220801T235900
DTSTAMP:20260420T172446
CREATED:20220301T234616Z
LAST-MODIFIED:20220301T235137Z
UID:20567-1659312000-1659398340@pacific-crest.org
SUMMARY:National Tour Day 18
DESCRIPTION:National Tour Day 18 –  Huntington WV Show – PM Depart for Salem\, VA
URL:https://pacific-crest.org/event/national-tour-day-1-2-2-2-2-2-2-2-2-2-2-4-2-2-3/
CATEGORIES:Tour
END:VEVENT
BEGIN:VEVENT
DTSTART;TZID=America/Los_Angeles:20220731T000000
DTEND;TZID=America/Los_Angeles:20220731T235900
DTSTAMP:20260420T172446
CREATED:20220301T220246Z
LAST-MODIFIED:20220301T234515Z
UID:20563-1659225600-1659311940@pacific-crest.org
SUMMARY:National Tour Day 17
DESCRIPTION:National Tour Day 17 – NightBEAT Show – Huntington\, WV
URL:https://pacific-crest.org/event/national-tour-day-1-2-2-2-2-2-2-2-2-2-2-4-2-2/
CATEGORIES:Tour
END:VEVENT
BEGIN:VEVENT
DTSTART;TZID=America/Los_Angeles:20220730T000000
DTEND;TZID=America/Los_Angeles:20220730T235900
DTSTAMP:20260420T172446
CREATED:20220301T220211Z
LAST-MODIFIED:20220301T220454Z
UID:20561-1659139200-1659225540@pacific-crest.org
SUMMARY:National Tour Day 16
DESCRIPTION:National Tour Day 16 – Arrive Winston-Salem\, NC
URL:https://pacific-crest.org/event/national-tour-day-1-2-2-2-2-2-2-2-2-2-2-4-2/
CATEGORIES:Tour
END:VEVENT
BEGIN:VEVENT
DTSTART;TZID=America/Los_Angeles:20220729T000000
DTEND;TZID=America/Los_Angeles:20220729T235900
DTSTAMP:20260420T172446
CREATED:20220301T220138Z
LAST-MODIFIED:20220301T220138Z
UID:20559-1659052800-1659139140@pacific-crest.org
SUMMARY:National Tour Day 15
DESCRIPTION:National Tour Day 15 – Trussvile Show – Winston-Salem\, NC
URL:https://pacific-crest.org/event/national-tour-day-1-2-2-2-2-2-2-2-2-2-2-4/
CATEGORIES:Tour
END:VEVENT
BEGIN:VEVENT
DTSTART;TZID=America/Los_Angeles:20220728T000000
DTEND;TZID=America/Los_Angeles:20220728T235900
DTSTAMP:20260420T172446
CREATED:20220301T215544Z
LAST-MODIFIED:20220709T043901Z
UID:20551-1658966400-1659052740@pacific-crest.org
SUMMARY:National Tour Day 14
DESCRIPTION:National Tour Day 14 – Arrive Pinson\, AL – Rehearsal
URL:https://pacific-crest.org/event/national-tour-day-1-2-2-2-2-2-2-2-2-2-2-2/
CATEGORIES:Tour
END:VEVENT
BEGIN:VEVENT
DTSTART;TZID=America/Los_Angeles:20220727T000000
DTEND;TZID=America/Los_Angeles:20220727T235900
DTSTAMP:20260420T172446
CREATED:20220301T215801Z
LAST-MODIFIED:20220709T043829Z
UID:20555-1658880000-1658966340@pacific-crest.org
SUMMARY:National Tour Day 13
DESCRIPTION:National Tour Day 12 – ??????\, AR to Pinson\, AL
URL:https://pacific-crest.org/event/national-tour-day-1-2-2-2-2-2-2-2-2-2-2-3/
CATEGORIES:Tour
END:VEVENT
BEGIN:VEVENT
DTSTART;TZID=America/Los_Angeles:20220726T000000
DTEND;TZID=America/Los_Angeles:20220726T235900
DTSTAMP:20260420T172446
CREATED:20220301T215356Z
LAST-MODIFIED:20220709T043748Z
UID:20547-1658793600-1658879940@pacific-crest.org
SUMMARY:National Tour Day 12
DESCRIPTION:National Tour Day 12 – Mesquite\, TX – ??????\, AR
URL:https://pacific-crest.org/event/national-tour-day-1-2-2-2-2-2-2-2-2-2-2/
CATEGORIES:Tour
END:VEVENT
BEGIN:VEVENT
DTSTART;TZID=America/Los_Angeles:20220725T000000
DTEND;TZID=America/Los_Angeles:20220725T235900
DTSTAMP:20260420T172446
CREATED:20220301T220008Z
LAST-MODIFIED:20220301T220008Z
UID:20557-1658707200-1658793540@pacific-crest.org
SUMMARY:National Tour Day 11
DESCRIPTION:National Tour Day 10 – Mesquite Show –
URL:https://pacific-crest.org/event/national-tour-day-1-2-2-2-2-2-2-2-2-2-3/
CATEGORIES:Tour
END:VEVENT
BEGIN:VEVENT
DTSTART;TZID=America/Los_Angeles:20220724T000000
DTEND;TZID=America/Los_Angeles:20220724T235900
DTSTAMP:20260420T172446
CREATED:20220301T215236Z
LAST-MODIFIED:20220301T215900Z
UID:20545-1658620800-1658707140@pacific-crest.org
SUMMARY:National Tour Day 10
DESCRIPTION:National Tour Day 10 – San Antonio Free Day – Mesquite TX
URL:https://pacific-crest.org/event/national-tour-day-1-2-2-2-2-2-2-2-2-2/
CATEGORIES:Tour
END:VEVENT
BEGIN:VEVENT
DTSTART;TZID=America/Los_Angeles:20220723T000000
DTEND;TZID=America/Los_Angeles:20220723T235900
DTSTAMP:20260420T172446
CREATED:20220301T215208Z
LAST-MODIFIED:20220301T215208Z
UID:20543-1658534400-1658620740@pacific-crest.org
SUMMARY:National Tour Day 9
DESCRIPTION:National Tour Day 9 – DCI Southwestern Chsmpionship
URL:https://pacific-crest.org/event/national-tour-day-1-2-2-2-2-2-2-2-2/
CATEGORIES:Tour
END:VEVENT
BEGIN:VEVENT
DTSTART;TZID=America/Los_Angeles:20220722T000000
DTEND;TZID=America/Los_Angeles:20220722T235900
DTSTAMP:20260420T172446
CREATED:20220301T215105Z
LAST-MODIFIED:20220709T043645Z
UID:20541-1658448000-1658534340@pacific-crest.org
SUMMARY:National Tour Day 8
DESCRIPTION:National Tour Day 8 – Austin\, TX area rehearsal – PM depzrt for Ssn Astonio\, TX
URL:https://pacific-crest.org/event/national-tour-day-1-2-2-2-2-2-2-2/
CATEGORIES:Tour
END:VEVENT
BEGIN:VEVENT
DTSTART;TZID=America/Los_Angeles:20220721T000000
DTEND;TZID=America/Los_Angeles:20220721T235900
DTSTAMP:20260420T172446
CREATED:20220301T214756Z
LAST-MODIFIED:20220301T214756Z
UID:20537-1658361600-1658447940@pacific-crest.org
SUMMARY:National Tour Day 7
DESCRIPTION:National Tour Day 7 – DCI Austin Show
URL:https://pacific-crest.org/event/national-tour-day-1-2-2-2-2-2-2/
CATEGORIES:Tour
END:VEVENT
BEGIN:VEVENT
DTSTART;TZID=America/Los_Angeles:20220720T000000
DTEND;TZID=America/Los_Angeles:20220720T235900
DTSTAMP:20260420T172446
CREATED:20220301T214712Z
LAST-MODIFIED:20220709T043529Z
UID:20535-1658275200-1658361540@pacific-crest.org
SUMMARY:National Tour Day 6
DESCRIPTION:National Tour Day 6 – Cache\, OK – PM Depart for Austin\, TX area.
URL:https://pacific-crest.org/event/national-tour-day-1-2-2-2-2-2/
CATEGORIES:Tour
END:VEVENT
BEGIN:VEVENT
DTSTART;TZID=America/Los_Angeles:20220719T000000
DTEND;TZID=America/Los_Angeles:20220719T235900
DTSTAMP:20260420T172446
CREATED:20220301T192652Z
LAST-MODIFIED:20220709T043417Z
UID:20531-1658188800-1658275140@pacific-crest.org
SUMMARY:National Tour Day 5
DESCRIPTION:National Tour Day 5 – Lawton\, OK  Rehearsal
URL:https://pacific-crest.org/event/national-tour-day-1-2-2-2-2/
CATEGORIES:Tour
END:VEVENT
BEGIN:VEVENT
DTSTART;TZID=America/Los_Angeles:20220718T000000
DTEND;TZID=America/Los_Angeles:20220718T235900
DTSTAMP:20260420T172446
CREATED:20220301T192613Z
LAST-MODIFIED:20220709T043236Z
UID:20529-1658102400-1658188740@pacific-crest.org
SUMMARY:National Tour Day 4
DESCRIPTION:National Tour Day 4 – Csnyon\, TX to Cache\, OK
URL:https://pacific-crest.org/event/national-tour-day-1-2-2-2/
CATEGORIES:Tour
END:VEVENT
BEGIN:VEVENT
DTSTART;TZID=America/Los_Angeles:20220717T000000
DTEND;TZID=America/Los_Angeles:20220717T235900
DTSTAMP:20260420T172446
CREATED:20220301T192510Z
LAST-MODIFIED:20220301T192510Z
UID:20527-1658016000-1658102340@pacific-crest.org
SUMMARY:National Tour Day 3
DESCRIPTION:National Tour Day 3 – Santa Rosa\, NM – Canyon\, TX
URL:https://pacific-crest.org/event/national-tour-day-1-2-2/
CATEGORIES:Tour
END:VEVENT
BEGIN:VEVENT
DTSTART;TZID=America/Los_Angeles:20220716T000000
DTEND;TZID=America/Los_Angeles:20220716T235900
DTSTAMP:20260420T172446
CREATED:20220301T192437Z
LAST-MODIFIED:20220301T192437Z
UID:20525-1657929600-1658015940@pacific-crest.org
SUMMARY:National Tour Day 2
DESCRIPTION:National Tour Day 2 – Flagstaff\, AZ – Santa Rose\, NM
URL:https://pacific-crest.org/event/national-tour-day-1-2/
CATEGORIES:Tour
END:VEVENT
BEGIN:VEVENT
DTSTART;TZID=America/Los_Angeles:20220715T200000
DTEND;TZID=America/Los_Angeles:20220715T235900
DTSTAMP:20260420T172446
CREATED:20220301T192325Z
LAST-MODIFIED:20220301T192325Z
UID:20523-1657915200-1657929540@pacific-crest.org
SUMMARY:National Tour Day 1
DESCRIPTION:National Tour Day 1 – Moreno Valley to Flagstaff\, AZ
URL:https://pacific-crest.org/event/national-tour-day-1/
CATEGORIES:Tour
END:VEVENT
BEGIN:VEVENT
DTSTART;TZID=America/Los_Angeles:20220715T000000
DTEND;TZID=America/Los_Angeles:20220715T200000
DTSTAMP:20260420T172446
CREATED:20220301T192049Z
LAST-MODIFIED:20220301T192049Z
UID:20521-1657843200-1657915200@pacific-crest.org
SUMMARY:Training Camp - Vista Del Lago HS
DESCRIPTION:Training Camp
URL:https://pacific-crest.org/event/training-camp-vista-del-lago-hs-2-2-2-2-2-2-2-2-2-2-2-2-3-2-2-2-2-2-2-2-2-2-2/
LOCATION:Vista del Lago High School\, 15150 Lasselle St\, Moreno Valley\, CA\, 92551\, United States
CATEGORIES:Tour
END:VEVENT
BEGIN:VEVENT
DTSTART;TZID=America/Los_Angeles:20220714T000000
DTEND;TZID=America/Los_Angeles:20220714T235900
DTSTAMP:20260420T172446
CREATED:20220301T192015Z
LAST-MODIFIED:20220301T192015Z
UID:20519-1657756800-1657843140@pacific-crest.org
SUMMARY:Training Camp - Vista Del Lago HS
DESCRIPTION:Training Camp
URL:https://pacific-crest.org/event/training-camp-vista-del-lago-hs-2-2-2-2-2-2-2-2-2-2-2-2-3-2-2-2-2-2-2-2-2-2/
LOCATION:Vista del Lago High School\, 15150 Lasselle St\, Moreno Valley\, CA\, 92551\, United States
CATEGORIES:Tour
END:VEVENT
BEGIN:VEVENT
DTSTART;TZID=America/Los_Angeles:20220713T000000
DTEND;TZID=America/Los_Angeles:20220713T235900
DTSTAMP:20260420T172446
CREATED:20220301T192000Z
LAST-MODIFIED:20220301T192000Z
UID:20517-1657670400-1657756740@pacific-crest.org
SUMMARY:Training Camp - Vista Del Lago HS
DESCRIPTION:Training Camp
URL:https://pacific-crest.org/event/training-camp-vista-del-lago-hs-2-2-2-2-2-2-2-2-2-2-2-2-3-2-2-2-2-2-2-2-2/
LOCATION:Vista del Lago High School\, 15150 Lasselle St\, Moreno Valley\, CA\, 92551\, United States
CATEGORIES:Tour
END:VEVENT
BEGIN:VEVENT
DTSTART;TZID=America/Los_Angeles:20220712T000000
DTEND;TZID=America/Los_Angeles:20220712T235900
DTSTAMP:20260420T172446
CREATED:20220301T191942Z
LAST-MODIFIED:20220301T191942Z
UID:20515-1657584000-1657670340@pacific-crest.org
SUMMARY:Training Camp - Vista Del Lago HS
DESCRIPTION:Training Camp
URL:https://pacific-crest.org/event/training-camp-vista-del-lago-hs-2-2-2-2-2-2-2-2-2-2-2-2-3-2-2-2-2-2-2-2/
LOCATION:Vista del Lago High School\, 15150 Lasselle St\, Moreno Valley\, CA\, 92551\, United States
CATEGORIES:Tour
END:VEVENT
BEGIN:VEVENT
DTSTART;TZID=America/Los_Angeles:20220711T000000
DTEND;TZID=America/Los_Angeles:20220711T235900
DTSTAMP:20260420T172446
CREATED:20220301T191926Z
LAST-MODIFIED:20220301T191926Z
UID:20513-1657497600-1657583940@pacific-crest.org
SUMMARY:Training Camp - Vista Del Lago HS
DESCRIPTION:Training Camp
URL:https://pacific-crest.org/event/training-camp-vista-del-lago-hs-2-2-2-2-2-2-2-2-2-2-2-2-3-2-2-2-2-2-2/
LOCATION:Vista del Lago High School\, 15150 Lasselle St\, Moreno Valley\, CA\, 92551\, United States
CATEGORIES:Tour
END:VEVENT
BEGIN:VEVENT
DTSTART;TZID=America/Los_Angeles:20220710T000000
DTEND;TZID=America/Los_Angeles:20220710T235900
DTSTAMP:20260420T172446
CREATED:20220301T191745Z
LAST-MODIFIED:20220301T191745Z
UID:20509-1657411200-1657497540@pacific-crest.org
SUMMARY:Northern California Mini Tour Day 4
DESCRIPTION:Northern California Mini Tour Day 4 – DCI West Show
URL:https://pacific-crest.org/event/northern-california-mini-tour-day-1-2-2-2/
CATEGORIES:Tour
END:VEVENT
BEGIN:VEVENT
DTSTART;TZID=America/Los_Angeles:20220709T000000
DTEND;TZID=America/Los_Angeles:20220709T235900
DTSTAMP:20260420T172446
CREATED:20220301T191713Z
LAST-MODIFIED:20220709T043142Z
UID:20507-1657324800-1657411140@pacific-crest.org
SUMMARY:Northern California Mini Tour Day 3
DESCRIPTION:Northern California Mini Tour Day 3 – Community Performance with the Mandarins – THIS PERFORMANCE has been CANCELLED.
URL:https://pacific-crest.org/event/northern-california-mini-tour-day-1-2-2/
CATEGORIES:Tour
END:VEVENT
BEGIN:VEVENT
DTSTART;TZID=America/Los_Angeles:20220708T000000
DTEND;TZID=America/Los_Angeles:20220708T235900
DTSTAMP:20260420T172446
CREATED:20220301T191242Z
LAST-MODIFIED:20220301T191242Z
UID:20502-1657238400-1657324740@pacific-crest.org
SUMMARY:Northern California Mini Tour Day 2
DESCRIPTION:Northern California Mini Tour Day 2 – Capitol Classic Show
URL:https://pacific-crest.org/event/northern-california-mini-tour-day-1-2/
CATEGORIES:Tour
END:VEVENT
BEGIN:VEVENT
DTSTART;TZID=America/Los_Angeles:20220707T200000
DTEND;TZID=America/Los_Angeles:20220707T235900
DTSTAMP:20260420T172446
CREATED:20220301T191151Z
LAST-MODIFIED:20220301T191151Z
UID:20500-1657224000-1657238340@pacific-crest.org
SUMMARY:Northern California Mini Tour Day 1
DESCRIPTION:Northern California Mini Tour Day 1
URL:https://pacific-crest.org/event/northern-california-mini-tour-day-1/
CATEGORIES:Tour
END:VEVENT
BEGIN:VEVENT
DTSTART;TZID=America/Los_Angeles:20220706T000000
DTEND;TZID=America/Los_Angeles:20220706T235900
DTSTAMP:20260420T172446
CREATED:20220301T190753Z
LAST-MODIFIED:20220301T190753Z
UID:20495-1657065600-1657151940@pacific-crest.org
SUMMARY:Training Camp - Vista Del Lago HS
DESCRIPTION:Training Camp
URL:https://pacific-crest.org/event/training-camp-vista-del-lago-hs-2-2-2-2-2-2-2-2-2-2-2-2-3-2-2-2-2-2/
LOCATION:Vista del Lago High School\, 15150 Lasselle St\, Moreno Valley\, CA\, 92551\, United States
CATEGORIES:Tour
END:VEVENT
BEGIN:VEVENT
DTSTART;TZID=America/Los_Angeles:20220705T000000
DTEND;TZID=America/Los_Angeles:20220705T235900
DTSTAMP:20260420T172446
CREATED:20220301T190737Z
LAST-MODIFIED:20220301T190737Z
UID:20493-1656979200-1657065540@pacific-crest.org
SUMMARY:Training Camp - Vista Del Lago HS
DESCRIPTION:Training Camp
URL:https://pacific-crest.org/event/training-camp-vista-del-lago-hs-2-2-2-2-2-2-2-2-2-2-2-2-3-2-2-2-2/
LOCATION:Vista del Lago High School\, 15150 Lasselle St\, Moreno Valley\, CA\, 92551\, United States
CATEGORIES:Tour
END:VEVENT
BEGIN:VEVENT
DTSTART;TZID=America/Los_Angeles:20220703T000000
DTEND;TZID=America/Los_Angeles:20220703T235900
DTSTAMP:20260420T172446
CREATED:20220301T190024Z
LAST-MODIFIED:20220301T190024Z
UID:20491-1656806400-1656892740@pacific-crest.org
SUMMARY:Arizona Mini Tour - Vista Del Lago
DESCRIPTION:AZ Mini Tour – Home
URL:https://pacific-crest.org/event/arizona-mini-tour-2-2/
CATEGORIES:Tour
END:VEVENT
END:VCALENDAR