BEGIN:VCALENDAR
VERSION:2.0
PRODID:-//Pacific Crest Youth Arts Organization - ECPv6.15.18//NONSGML v1.0//EN
CALSCALE:GREGORIAN
METHOD:PUBLISH
X-WR-CALNAME:Pacific Crest Youth Arts Organization
X-ORIGINAL-URL:https://pacific-crest.org
X-WR-CALDESC:Events for Pacific Crest Youth Arts Organization
REFRESH-INTERVAL;VALUE=DURATION:PT1H
X-Robots-Tag:noindex
X-PUBLISHED-TTL:PT1H
BEGIN:VTIMEZONE
TZID:America/Los_Angeles
BEGIN:DAYLIGHT
TZOFFSETFROM:-0800
TZOFFSETTO:-0700
TZNAME:PDT
DTSTART:20170312T100000
END:DAYLIGHT
BEGIN:STANDARD
TZOFFSETFROM:-0700
TZOFFSETTO:-0800
TZNAME:PST
DTSTART:20171105T090000
END:STANDARD
BEGIN:DAYLIGHT
TZOFFSETFROM:-0800
TZOFFSETTO:-0700
TZNAME:PDT
DTSTART:20180311T100000
END:DAYLIGHT
BEGIN:STANDARD
TZOFFSETFROM:-0700
TZOFFSETTO:-0800
TZNAME:PST
DTSTART:20181104T090000
END:STANDARD
BEGIN:DAYLIGHT
TZOFFSETFROM:-0800
TZOFFSETTO:-0700
TZNAME:PDT
DTSTART:20190310T100000
END:DAYLIGHT
BEGIN:STANDARD
TZOFFSETFROM:-0700
TZOFFSETTO:-0800
TZNAME:PST
DTSTART:20191103T090000
END:STANDARD
BEGIN:DAYLIGHT
TZOFFSETFROM:-0800
TZOFFSETTO:-0700
TZNAME:PDT
DTSTART:20200308T100000
END:DAYLIGHT
BEGIN:STANDARD
TZOFFSETFROM:-0700
TZOFFSETTO:-0800
TZNAME:PST
DTSTART:20201101T090000
END:STANDARD
BEGIN:DAYLIGHT
TZOFFSETFROM:-0800
TZOFFSETTO:-0700
TZNAME:PDT
DTSTART:20210314T100000
END:DAYLIGHT
BEGIN:STANDARD
TZOFFSETFROM:-0700
TZOFFSETTO:-0800
TZNAME:PST
DTSTART:20211107T090000
END:STANDARD
BEGIN:DAYLIGHT
TZOFFSETFROM:-0800
TZOFFSETTO:-0700
TZNAME:PDT
DTSTART:20220313T100000
END:DAYLIGHT
BEGIN:STANDARD
TZOFFSETFROM:-0700
TZOFFSETTO:-0800
TZNAME:PST
DTSTART:20221106T090000
END:STANDARD
BEGIN:DAYLIGHT
TZOFFSETFROM:-0800
TZOFFSETTO:-0700
TZNAME:PDT
DTSTART:20230312T100000
END:DAYLIGHT
BEGIN:STANDARD
TZOFFSETFROM:-0700
TZOFFSETTO:-0800
TZNAME:PST
DTSTART:20231105T090000
END:STANDARD
END:VTIMEZONE
BEGIN:VEVENT
DTSTART;TZID=America/Los_Angeles:20220620T000000
DTEND;TZID=America/Los_Angeles:20220620T235900
DTSTAMP:20260421T055654
CREATED:20220301T184307Z
LAST-MODIFIED:20220301T184307Z
UID:20460-1655683200-1655769540@pacific-crest.org
SUMMARY:Training Camp - Vista Del Lago HS
DESCRIPTION:Training Camp
URL:https://pacific-crest.org/event/training-camp-vista-del-lago-hs-2-2-2-2-2-2-2-2-2/
LOCATION:Vista del Lago High School\, 15150 Lasselle St\, Moreno Valley\, CA\, 92551\, United States
CATEGORIES:Tour
END:VEVENT
BEGIN:VEVENT
DTSTART;TZID=America/Los_Angeles:20220619T000000
DTEND;TZID=America/Los_Angeles:20220619T235900
DTSTAMP:20260421T055654
CREATED:20220301T184250Z
LAST-MODIFIED:20220301T184250Z
UID:20458-1655596800-1655683140@pacific-crest.org
SUMMARY:Training Camp - Vista Del Lago HS
DESCRIPTION:Training Camp
URL:https://pacific-crest.org/event/training-camp-vista-del-lago-hs-2-2-2-2-2-2-2-2/
LOCATION:Vista del Lago High School\, 15150 Lasselle St\, Moreno Valley\, CA\, 92551\, United States
CATEGORIES:Tour
END:VEVENT
BEGIN:VEVENT
DTSTART;TZID=America/Los_Angeles:20220618T000000
DTEND;TZID=America/Los_Angeles:20220618T235900
DTSTAMP:20260421T055654
CREATED:20211226T161836Z
LAST-MODIFIED:20211226T161836Z
UID:19953-1655510400-1655596740@pacific-crest.org
SUMMARY:Training Camp - Vista Del Lago HS
DESCRIPTION:Training Camp
URL:https://pacific-crest.org/event/training-camp-vista-del-lago-hs-2-2-2-2-2-2-2/
LOCATION:Vista del Lago High School\, 15150 Lasselle St\, Moreno Valley\, CA\, 92551\, United States
CATEGORIES:Tour
END:VEVENT
BEGIN:VEVENT
DTSTART;TZID=America/Los_Angeles:20220617T000000
DTEND;TZID=America/Los_Angeles:20220617T235900
DTSTAMP:20260421T055654
CREATED:20211226T161756Z
LAST-MODIFIED:20211226T161756Z
UID:19951-1655424000-1655510340@pacific-crest.org
SUMMARY:Training Camp - Vista Del Lago HS
DESCRIPTION:Training Camp
URL:https://pacific-crest.org/event/training-camp-vista-del-lago-hs-2-2-2-2-2-2/
LOCATION:Vista del Lago High School\, 15150 Lasselle St\, Moreno Valley\, CA\, 92551\, United States
CATEGORIES:Tour
END:VEVENT
BEGIN:VEVENT
DTSTART;TZID=America/Los_Angeles:20220616T000000
DTEND;TZID=America/Los_Angeles:20220616T235900
DTSTAMP:20260421T055654
CREATED:20211226T161726Z
LAST-MODIFIED:20211226T161726Z
UID:19949-1655337600-1655423940@pacific-crest.org
SUMMARY:Training Camp - Vista Del Lago HS
DESCRIPTION:Training Camp
URL:https://pacific-crest.org/event/training-camp-vista-del-lago-hs-2-2-2-2-2/
LOCATION:Vista del Lago High School\, 15150 Lasselle St\, Moreno Valley\, CA\, 92551\, United States
CATEGORIES:Tour
END:VEVENT
BEGIN:VEVENT
DTSTART;TZID=America/Los_Angeles:20220615T000000
DTEND;TZID=America/Los_Angeles:20220615T235900
DTSTAMP:20260421T055654
CREATED:20211226T161711Z
LAST-MODIFIED:20211226T161711Z
UID:19947-1655251200-1655337540@pacific-crest.org
SUMMARY:Training Camp - Vista Del Lago HS
DESCRIPTION:Training Camp
URL:https://pacific-crest.org/event/training-camp-vista-del-lago-hs-2-2-2-2/
LOCATION:Vista del Lago High School\, 15150 Lasselle St\, Moreno Valley\, CA\, 92551\, United States
CATEGORIES:Tour
END:VEVENT
BEGIN:VEVENT
DTSTART;TZID=America/Los_Angeles:20220614T000000
DTEND;TZID=America/Los_Angeles:20220614T235900
DTSTAMP:20260421T055654
CREATED:20211226T161655Z
LAST-MODIFIED:20211226T161655Z
UID:19945-1655164800-1655251140@pacific-crest.org
SUMMARY:Training Camp - Vista Del Lago HS
DESCRIPTION:Training Camp
URL:https://pacific-crest.org/event/training-camp-vista-del-lago-hs-2-2-2/
LOCATION:Vista del Lago High School\, 15150 Lasselle St\, Moreno Valley\, CA\, 92551\, United States
CATEGORIES:Tour
END:VEVENT
BEGIN:VEVENT
DTSTART;TZID=America/Los_Angeles:20220613T000000
DTEND;TZID=America/Los_Angeles:20220613T235900
DTSTAMP:20260421T055654
CREATED:20211226T161518Z
LAST-MODIFIED:20211226T161518Z
UID:19943-1655078400-1655164740@pacific-crest.org
SUMMARY:Training Camp - Vista Del Lago HS
DESCRIPTION:Training Camp
URL:https://pacific-crest.org/event/training-camp-vista-del-lago-hs-2-2/
LOCATION:Vista del Lago High School\, 15150 Lasselle St\, Moreno Valley\, CA\, 92551\, United States
CATEGORIES:Tour
END:VEVENT
BEGIN:VEVENT
DTSTART;TZID=America/Los_Angeles:20220612T000000
DTEND;TZID=America/Los_Angeles:20220612T235900
DTSTAMP:20260421T055654
CREATED:20211226T161439Z
LAST-MODIFIED:20211226T161555Z
UID:19941-1654992000-1655078340@pacific-crest.org
SUMMARY:Training Camp - Vista Del Lago HS
DESCRIPTION:Training Camp
URL:https://pacific-crest.org/event/training-camp-vista-del-lago-hs-2/
LOCATION:Vista del Lago High School\, 15150 Lasselle St\, Moreno Valley\, CA\, 92551\, United States
CATEGORIES:Tour
END:VEVENT
BEGIN:VEVENT
DTSTART;TZID=America/Los_Angeles:20220611T080000
DTEND;TZID=America/Los_Angeles:20220611T235900
DTSTAMP:20260421T055654
CREATED:20211225T161540Z
LAST-MODIFIED:20211225T161540Z
UID:19939-1654934400-1654991940@pacific-crest.org
SUMMARY:Training Camp - Vista Del Lago HS
DESCRIPTION:Laundry – Transfer to Moreno Valley – Training Camp
URL:https://pacific-crest.org/event/training-camp-vista-del-lago-hs/
LOCATION:Vista del Lago High School\, 15150 Lasselle St\, Moreno Valley\, CA\, 92551\, United States
CATEGORIES:Tour
END:VEVENT
BEGIN:VEVENT
DTSTART;TZID=America/Los_Angeles:20220610T000000
DTEND;TZID=America/Los_Angeles:20220610T235900
DTSTAMP:20260421T055654
CREATED:20211225T160733Z
LAST-MODIFIED:20211225T161141Z
UID:19934-1654819200-1654905540@pacific-crest.org
SUMMARY:Training Camp - Charter Oak HS
DESCRIPTION:Training Camp
URL:https://pacific-crest.org/event/training-camp-charter-oak-hs-2-2-2-2-2-2/
LOCATION:Charter Oak HIgh School\, 1430 E Covina Blvd\, Covina\, CA\, 91724
CATEGORIES:Tour
END:VEVENT
BEGIN:VEVENT
DTSTART;TZID=America/Los_Angeles:20220609T000000
DTEND;TZID=America/Los_Angeles:20220609T235900
DTSTAMP:20260421T055654
CREATED:20211225T160713Z
LAST-MODIFIED:20211225T160713Z
UID:19932-1654732800-1654819140@pacific-crest.org
SUMMARY:Training Camp - Charter Oak HS
DESCRIPTION:Training Camp
URL:https://pacific-crest.org/event/training-camp-charter-oak-hs-2-2-2-2-2/
LOCATION:Charter Oak HIgh School\, 1430 E Covina Blvd\, Covina\, CA\, 91724
CATEGORIES:Tour
END:VEVENT
BEGIN:VEVENT
DTSTART;TZID=America/Los_Angeles:20220608T000000
DTEND;TZID=America/Los_Angeles:20220608T235900
DTSTAMP:20260421T055654
CREATED:20211225T160655Z
LAST-MODIFIED:20211225T160655Z
UID:19930-1654646400-1654732740@pacific-crest.org
SUMMARY:Training Camp - Charter Oak HS
DESCRIPTION:Training Camp
URL:https://pacific-crest.org/event/training-camp-charter-oak-hs-2-2-2-2/
LOCATION:Charter Oak HIgh School\, 1430 E Covina Blvd\, Covina\, CA\, 91724
CATEGORIES:Tour
END:VEVENT
BEGIN:VEVENT
DTSTART;TZID=America/Los_Angeles:20220607T000000
DTEND;TZID=America/Los_Angeles:20220607T235900
DTSTAMP:20260421T055654
CREATED:20211225T160637Z
LAST-MODIFIED:20211225T160637Z
UID:19928-1654560000-1654646340@pacific-crest.org
SUMMARY:Training Camp - Charter Oak HS
DESCRIPTION:Training Camp
URL:https://pacific-crest.org/event/training-camp-charter-oak-hs-2-2-2/
LOCATION:Charter Oak HIgh School\, 1430 E Covina Blvd\, Covina\, CA\, 91724
CATEGORIES:Tour
END:VEVENT
BEGIN:VEVENT
DTSTART;TZID=America/Los_Angeles:20220606T000000
DTEND;TZID=America/Los_Angeles:20220606T235900
DTSTAMP:20260421T055654
CREATED:20211225T160528Z
LAST-MODIFIED:20211225T160528Z
UID:19926-1654473600-1654559940@pacific-crest.org
SUMMARY:Training Camp - Charter Oak HS
DESCRIPTION:Training Camp
URL:https://pacific-crest.org/event/training-camp-charter-oak-hs-2-2/
LOCATION:Charter Oak HIgh School\, 1430 E Covina Blvd\, Covina\, CA\, 91724
CATEGORIES:Tour
END:VEVENT
BEGIN:VEVENT
DTSTART;TZID=America/Los_Angeles:20220605T000000
DTEND;TZID=America/Los_Angeles:20220605T235900
DTSTAMP:20260421T055654
CREATED:20211225T160451Z
LAST-MODIFIED:20211225T160555Z
UID:19924-1654387200-1654473540@pacific-crest.org
SUMMARY:Training Camp - Charter Oak HS
DESCRIPTION:Training Camp
URL:https://pacific-crest.org/event/training-camp-charter-oak-hs-2/
LOCATION:Charter Oak HIgh School\, 1430 E Covina Blvd\, Covina\, CA\, 91724
CATEGORIES:Tour
END:VEVENT
BEGIN:VEVENT
DTSTART;TZID=America/Los_Angeles:20220604T080000
DTEND;TZID=America/Los_Angeles:20220604T235900
DTSTAMP:20260421T055654
CREATED:20211225T160423Z
LAST-MODIFIED:20211225T160423Z
UID:19922-1654329600-1654387140@pacific-crest.org
SUMMARY:Training Camp - Charter Oak HS
DESCRIPTION:Move-in and Training Camp
URL:https://pacific-crest.org/event/training-camp-charter-oak-hs/
LOCATION:Charter Oak HIgh School\, 1430 E Covina Blvd\, Covina\, CA\, 91724
CATEGORIES:Tour
END:VEVENT
BEGIN:VEVENT
DTSTART;TZID=America/Los_Angeles:20210815T120000
DTEND;TZID=America/Los_Angeles:20210815T235900
DTSTAMP:20260421T055654
CREATED:20210109T170348Z
LAST-MODIFIED:20210429T144757Z
UID:18285-1629028800-1629071940@pacific-crest.org
SUMMARY:Depart Indianapolis for Home
DESCRIPTION:
URL:https://pacific-crest.org/event/depart-indianapolis/
LOCATION:IN
CATEGORIES:Tour
END:VEVENT
BEGIN:VEVENT
DTSTART;TZID=America/Los_Angeles:20210814T120000
DTEND;TZID=America/Los_Angeles:20210814T235900
DTSTAMP:20260421T055654
CREATED:20210429T144627Z
LAST-MODIFIED:20210429T144627Z
UID:18660-1628942400-1628985540@pacific-crest.org
SUMMARY:DCI Showcase Celebration
DESCRIPTION:
URL:https://pacific-crest.org/event/dci-showcase-celebration-3/
LOCATION:Lucas Oil Stadium\, 500 S Capitol Ave\, Indianapolis\, IN\, United States
CATEGORIES:Tour
END:VEVENT
BEGIN:VEVENT
DTSTART;TZID=America/Los_Angeles:20210813T120000
DTEND;TZID=America/Los_Angeles:20210813T235900
DTSTAMP:20260421T055654
CREATED:20210429T144534Z
LAST-MODIFIED:20210429T144534Z
UID:18658-1628856000-1628899140@pacific-crest.org
SUMMARY:DCI Showcase Celebration
DESCRIPTION:
URL:https://pacific-crest.org/event/dci-showcase-celebration-2/
LOCATION:Lucas Oil Stadium\, 500 S Capitol Ave\, Indianapolis\, IN\, United States
CATEGORIES:Tour
END:VEVENT
BEGIN:VEVENT
DTSTART;TZID=America/Los_Angeles:20210812T000000
DTEND;TZID=America/Los_Angeles:20210812T235900
DTSTAMP:20260421T055654
CREATED:20210429T144428Z
LAST-MODIFIED:20210429T144428Z
UID:18656-1628726400-1628812740@pacific-crest.org
SUMMARY:DCI Showcase Celebration
DESCRIPTION:
URL:https://pacific-crest.org/event/dci-showcase-celebration/
LOCATION:Lucas Oil Stadium\, 500 S Capitol Ave\, Indianapolis\, IN\, United States
CATEGORIES:Tour
END:VEVENT
BEGIN:VEVENT
DTSTART;TZID=America/Los_Angeles:20210811T000000
DTEND;TZID=America/Los_Angeles:20210811T235900
DTSTAMP:20260421T055654
CREATED:20210429T144037Z
LAST-MODIFIED:20210429T144037Z
UID:18654-1628640000-1628726340@pacific-crest.org
SUMMARY:Indianapolis Rehearsal
DESCRIPTION:
URL:https://pacific-crest.org/event/indianapolis-rehearsal-2/
LOCATION:La Quinta Inn and Suites Indianapolis South\, 5120 Victory Drive\, Indianapolis\, IN\, 46203\, United States
CATEGORIES:Tour
END:VEVENT
BEGIN:VEVENT
DTSTART;TZID=America/Los_Angeles:20210810T000000
DTEND;TZID=America/Los_Angeles:20210810T235900
DTSTAMP:20260421T055654
CREATED:20210429T143935Z
LAST-MODIFIED:20210429T143935Z
UID:18652-1628553600-1628639940@pacific-crest.org
SUMMARY:Indianapolis Rehearsal
DESCRIPTION:
URL:https://pacific-crest.org/event/indianapolis-rehearsal/
LOCATION:La Quinta Inn and Suites Indianapolis South\, 5120 Victory Drive\, Indianapolis\, IN\, 46203\, United States
CATEGORIES:Tour
END:VEVENT
BEGIN:VEVENT
DTSTART;TZID=America/Los_Angeles:20210809T000000
DTEND;TZID=America/Los_Angeles:20210809T235900
DTSTAMP:20260421T055654
CREATED:20210109T170308Z
LAST-MODIFIED:20210429T143833Z
UID:18283-1628467200-1628553540@pacific-crest.org
SUMMARY:Los Angeles to Indianapolis
DESCRIPTION:
URL:https://pacific-crest.org/event/drum-corps-international-2021-showcase/
LOCATION:La Quinta Inn and Suites Indianapolis South\, 5120 Victory Drive\, Indianapolis\, IN\, 46203\, United States
CATEGORIES:Tour
END:VEVENT
BEGIN:VEVENT
DTSTART;TZID=America/Los_Angeles:20190812T080000
DTEND;TZID=America/Los_Angeles:20190816T170000
DTSTAMP:20260421T055655
CREATED:20190312T004346Z
LAST-MODIFIED:20190312T004346Z
UID:13554-1565596800-1565974800@pacific-crest.org
SUMMARY:PC Vehicle Convoy En-Route to Califortnia
DESCRIPTION:No details available.
URL:https://pacific-crest.org/event/pc-vehicle-convoy-en-route-to-califortnia/
LOCATION:IN
CATEGORIES:Tour
END:VEVENT
BEGIN:VEVENT
DTSTART;TZID=America/Los_Angeles:20190811T020000
DTEND;TZID=America/Los_Angeles:20190811T120000
DTSTAMP:20260421T055655
CREATED:20181121T040606Z
LAST-MODIFIED:20181121T040635Z
UID:13001-1565488800-1565524800@pacific-crest.org
SUMMARY:Travel - Indianapolis - California
DESCRIPTION:Details to be determined
URL:https://pacific-crest.org/event/full-day-rehearsal-2-2-3-2-3-2-2-2-2-2-2-2-2-3-2-2-2-2-2-2-2-2-2-2-2-2-2-2-2-3-2-2-2-2-2-2-2-2-2-2-2-2-2-2-2-2-2-2-2/
LOCATION:Hauser Jr  Sr High School\, 9273 IN-9\, Hope\, IN\, 47246\, United States
CATEGORIES:Tour
END:VEVENT
BEGIN:VEVENT
DTSTART;TZID=America/Los_Angeles:20190614T220000
DTEND;TZID=America/Los_Angeles:20190614T230000
DTSTAMP:20260421T055655
CREATED:20190326T165013Z
LAST-MODIFIED:20190611T230408Z
UID:13673-1560549600-1560553200@pacific-crest.org
SUMMARY:Travel Charter Oak HS to Valley View HS
DESCRIPTION:Schedule (Tentative)\n10:00 PM Buses spot at Charter Oak HS\n11:30 PM Depart for Valley View High School\, 13135 Nason St\, Moreno Valley\, CA 92555\n12:00 AM PM Arrive at Valley View HS. Move-In
URL:https://pacific-crest.org/event/travel-charter-oak-hs-to-valley-view-hs/
LOCATION:Charter Oak HIgh School\, 1430 E Covina Blvd\, Covina\, CA\, 91724
CATEGORIES:Tour
END:VEVENT
BEGIN:VEVENT
DTSTART;TZID=America/Los_Angeles:20180812T010000
DTEND;TZID=America/Los_Angeles:20180812T120000
DTSTAMP:20260421T055655
CREATED:20180608T034633Z
LAST-MODIFIED:20180812T031009Z
UID:11686-1534035600-1534075200@pacific-crest.org
SUMMARY:Indianapolis - Home
DESCRIPTION:CONFIRMED \nSchedule\n12:00 AM Meet at the buses in the Auxiliary Lot\n1:00 AM Depart for IND Int’l Airport\n1:45 AM Arrive at IND Int’l Airport Arrival Lower Level \nUnload buses move into arrival lobby.\n5:00 AM Departure lobby opens for outbound flights \nSun\, Aug 12 Indianapolis Airport Information
URL:https://pacific-crest.org/event/indianapolis-home/
LOCATION:IND Airport\, 7800 Col. H. Weir Cook Memorial Dr\, Indianapolis\, IN\, 46241
CATEGORIES:Tour
END:VEVENT
BEGIN:VEVENT
DTSTART;TZID=America/Los_Angeles:20180811T170000
DTEND;TZID=America/Los_Angeles:20180811T230000
DTSTAMP:20260421T055655
CREATED:20180313T201842Z
LAST-MODIFIED:20180811T115659Z
UID:11132-1534006800-1534028400@pacific-crest.org
SUMMARY:DCI World Championships Finals - Indianapolis\, IN
DESCRIPTION:Confirmed \nSchedule \n8:00 AM Age Out Breakfast\n9:00 AM Pack\, re-load Equipment/Check-in\n11:30 AM Pack\, Load and Clean.\n1:00 PM Meeting\n1:30 PM Depart for Lucas Oil\n2:30 PM Arrive Auxiliary Lot.\n4:55 PM DCI 2018 CHAMPIONSHIPS Begins\n6:30 PM First corps steps off\n9:54 PM Last Corps Steps Off\n10:19 PM Scores announced\n10:50 PM Champion Encore\n12:00 AM Meet at busses in Auxiliary Lot
URL:https://pacific-crest.org/event/dci-world-championships-finals-indianapolis-in/
LOCATION:Lucas Oil Stadium\, 500 S Capitol Ave\, Indianapolis\, IN\, United States
CATEGORIES:Tour
END:VEVENT
BEGIN:VEVENT
DTSTART;VALUE=DATE:20180705
DTEND;VALUE=DATE:20180707
DTSTAMP:20260421T055655
CREATED:20180313T135734Z
LAST-MODIFIED:20180705T190024Z
UID:11009-1530748800-1530835200@pacific-crest.org
SUMMARY:Travel / Rehearsal Day - Chico\, CA to Vancouver\, WA
DESCRIPTION:Confirmed \nSchedule\n5:00 am – Arrive at Chico High School\n5:30 am – Lights Out\n10:00 am – Brunch\n11:00 pm – Rehearsal\n2:00 pm – Lunch\n3:00 pm – Rehearsal\nChico HS Band students will be in attendance. PG\n5:30 pm – End of day / Announcements\n6:00 pm – Eat\, Pack\, Load\n8:00 pm – Depart for Mt. Angel\, OR \nHousing\nCHICO HIGH SCHOOL\n901 ESPLANADE\nCHICO\, CA 95926 \n \n 
URL:https://pacific-crest.org/event/travel-rehearsal-day-chico-ca/
LOCATION:Chico High School\, 901 Esplanade\, Chico\, CA\, 95926\, United States
CATEGORIES:Tour
END:VEVENT
END:VCALENDAR