BEGIN:VCALENDAR
VERSION:2.0
PRODID:-//Pacific Crest Youth Arts Organization - ECPv6.15.18//NONSGML v1.0//EN
CALSCALE:GREGORIAN
METHOD:PUBLISH
X-ORIGINAL-URL:https://pacific-crest.org
X-WR-CALDESC:Events for Pacific Crest Youth Arts Organization
REFRESH-INTERVAL;VALUE=DURATION:PT1H
X-Robots-Tag:noindex
X-PUBLISHED-TTL:PT1H
BEGIN:VTIMEZONE
TZID:America/Los_Angeles
BEGIN:DAYLIGHT
TZOFFSETFROM:-0800
TZOFFSETTO:-0700
TZNAME:PDT
DTSTART:20210314T100000
END:DAYLIGHT
BEGIN:STANDARD
TZOFFSETFROM:-0700
TZOFFSETTO:-0800
TZNAME:PST
DTSTART:20211107T090000
END:STANDARD
BEGIN:DAYLIGHT
TZOFFSETFROM:-0800
TZOFFSETTO:-0700
TZNAME:PDT
DTSTART:20220313T100000
END:DAYLIGHT
BEGIN:STANDARD
TZOFFSETFROM:-0700
TZOFFSETTO:-0800
TZNAME:PST
DTSTART:20221106T090000
END:STANDARD
BEGIN:DAYLIGHT
TZOFFSETFROM:-0800
TZOFFSETTO:-0700
TZNAME:PDT
DTSTART:20230312T100000
END:DAYLIGHT
BEGIN:STANDARD
TZOFFSETFROM:-0700
TZOFFSETTO:-0800
TZNAME:PST
DTSTART:20231105T090000
END:STANDARD
BEGIN:DAYLIGHT
TZOFFSETFROM:-0800
TZOFFSETTO:-0700
TZNAME:PDT
DTSTART:20240310T100000
END:DAYLIGHT
BEGIN:STANDARD
TZOFFSETFROM:-0700
TZOFFSETTO:-0800
TZNAME:PST
DTSTART:20241103T090000
END:STANDARD
END:VTIMEZONE
BEGIN:VEVENT
DTSTART;TZID=America/Los_Angeles:20230709T150000
DTEND;TZID=America/Los_Angeles:20230709T230000
DTSTAMP:20260420T192400
CREATED:20221215T182202Z
LAST-MODIFIED:20230319T162115Z
UID:22209-1688914800-1688943600@pacific-crest.org
SUMMARY:DCI West
DESCRIPTION:DCI West
URL:https://pacific-crest.org/event/dci-west-2/
LOCATION:Stanford  Stadium\, 625 Nelson Rd\, Stanford\, CA\, 94305\, United States
CATEGORIES:Show Day
END:VEVENT
BEGIN:VEVENT
DTSTART;TZID=America/Los_Angeles:20230708T150000
DTEND;TZID=America/Los_Angeles:20230708T230000
DTSTAMP:20260420T192400
CREATED:20221215T181237Z
LAST-MODIFIED:20230319T160057Z
UID:22202-1688828400-1688857200@pacific-crest.org
SUMMARY:Drum Corps at the Rose Bowl
DESCRIPTION:Drum Corps at the Rose Bowl
URL:https://pacific-crest.org/event/drum_at_the_rose_bowl/
LOCATION:Rose Bowl Stadium\, 1001 Rose Bowl Dr.\, Pasadena\, CA\, 91103\, United States
CATEGORIES:Show Day
END:VEVENT
BEGIN:VEVENT
DTSTART;TZID=America/Los_Angeles:20230707T150000
DTEND;TZID=America/Los_Angeles:20230707T230000
DTSTAMP:20260420T192400
CREATED:20221215T181830Z
LAST-MODIFIED:20221215T181830Z
UID:22206-1688742000-1688770800@pacific-crest.org
SUMMARY:MidCal Champions Showcase
DESCRIPTION:MidCal Champions Showcase
URL:https://pacific-crest.org/event/midcal-champions-showcase/
LOCATION:Bulldog Stadium at Fresno State\, 1620 E Bulldog Ln\, Fresno\, CA\, 93710\, United States
CATEGORIES:Show Day
END:VEVENT
BEGIN:VEVENT
DTSTART;TZID=America/Los_Angeles:20230702T150000
DTEND;TZID=America/Los_Angeles:20230702T230000
DTSTAMP:20260420T192400
CREATED:20221215T181408Z
LAST-MODIFIED:20221215T181920Z
UID:22204-1688310000-1688338800@pacific-crest.org
SUMMARY:Western Corps Connection
DESCRIPTION:Western Corps Connection
URL:https://pacific-crest.org/event/western_corps_connection/
LOCATION:San Bernardino Valley College\, 701 S Mt Vernon Ave\, San Bernardino\, CA\, 92410
CATEGORIES:Show Day
END:VEVENT
BEGIN:VEVENT
DTSTART;TZID=America/Los_Angeles:20230701T150000
DTEND;TZID=America/Los_Angeles:20230701T230000
DTSTAMP:20260420T192400
CREATED:20221215T181105Z
LAST-MODIFIED:20230319T160232Z
UID:22200-1688223600-1688252400@pacific-crest.org
SUMMARY:Corps at the Crest San Diego
DESCRIPTION:Corps at the Crest San Diego Show
URL:https://pacific-crest.org/event/corps-at-the-crest-san-diego-2/
LOCATION:Rancho Buena VIsta High School\, 1601 Longhorn Dr\, Vista\, CA\, 92081
CATEGORIES:Show Day
END:VEVENT
BEGIN:VEVENT
DTSTART;TZID=America/Los_Angeles:20220813T120000
DTEND;TZID=America/Los_Angeles:20220813T230000
DTSTAMP:20260420T192400
CREATED:20220302T210025Z
LAST-MODIFIED:20220302T210304Z
UID:20635-1660392000-1660431600@pacific-crest.org
SUMMARY:DCI World Championships Finals
DESCRIPTION:DCI World Championships Finals
URL:https://pacific-crest.org/event/dci-world-championship-finals/
LOCATION:Lucas Oil Stadium\, 500 S Capitol Ave\, Indianapolis\, IN\, United States
CATEGORIES:Show Day
END:VEVENT
BEGIN:VEVENT
DTSTART;TZID=America/Los_Angeles:20220812T120000
DTEND;TZID=America/Los_Angeles:20220812T230000
DTSTAMP:20260420T192400
CREATED:20220302T002926Z
LAST-MODIFIED:20220302T204220Z
UID:20622-1660305600-1660345200@pacific-crest.org
SUMMARY:DCI World Championships Finals
DESCRIPTION:DCI World Championships Finals
URL:https://pacific-crest.org/event/dci-world-championship-finals-2/
LOCATION:Lucas Oil Stadium\, 500 S Capitol Ave\, Indianapolis\, IN\, United States
CATEGORIES:Show Day
END:VEVENT
BEGIN:VEVENT
DTSTART;TZID=America/Los_Angeles:20220812T120000
DTEND;TZID=America/Los_Angeles:20220812T230000
DTSTAMP:20260420T192400
CREATED:20220302T002550Z
LAST-MODIFIED:20220302T194732Z
UID:20620-1660305600-1660345200@pacific-crest.org
SUMMARY:DCI World Championships Semi Finals
DESCRIPTION:DCI World Championships Semi Finals
URL:https://pacific-crest.org/event/dci-southwestern-championship-2-2-2-2-2-2-2-2-2-2/
LOCATION:Lucas Oil Stadium\, 500 S Capitol Ave\, Indianapolis\, IN\, United States
CATEGORIES:Show Day
END:VEVENT
BEGIN:VEVENT
DTSTART;TZID=America/Los_Angeles:20220811T120000
DTEND;TZID=America/Los_Angeles:20220811T230000
DTSTAMP:20260420T192400
CREATED:20220302T002341Z
LAST-MODIFIED:20220302T091358Z
UID:20618-1660219200-1660258800@pacific-crest.org
SUMMARY:DCI World Championships Prelims
DESCRIPTION:DCI World Championships
URL:https://pacific-crest.org/event/dci-chsmp-prelims/
LOCATION:Lucas Oil Stadium\, 500 S Capitol Ave\, Indianapolis\, IN\, United States
CATEGORIES:Show Day
END:VEVENT
BEGIN:VEVENT
DTSTART;TZID=America/Los_Angeles:20220808T120000
DTEND;TZID=America/Los_Angeles:20220808T230000
DTSTAMP:20260420T192400
CREATED:20220302T002138Z
LAST-MODIFIED:20220302T091608Z
UID:20615-1659960000-1659999600@pacific-crest.org
SUMMARY:DCI Tour of Champions Akron
DESCRIPTION:DCI Tour of Champions Akron
URL:https://pacific-crest.org/event/dci-tour-champions-akron/
LOCATION:InfoCision Stadium-Summa Field at University of Akron\, 375 E. Exchange Street\, Akron\, OH\, 44304\, United States
CATEGORIES:Show Day
END:VEVENT
BEGIN:VEVENT
DTSTART;TZID=America/Los_Angeles:20220807T120000
DTEND;TZID=America/Los_Angeles:20220807T230000
DTSTAMP:20260420T192400
CREATED:20220302T001912Z
LAST-MODIFIED:20220302T091800Z
UID:20613-1659873600-1659913200@pacific-crest.org
SUMMARY:DCI Pittsburgh
DESCRIPTION:DCI Pittsburgh
URL:https://pacific-crest.org/event/dci-pittsburgh/
LOCATION:Baldwin High School Stadium\, 4653 Clairton Blvd.\, Pittsburgh\, PA\, 15236\, United States
CATEGORIES:Show Day
END:VEVENT
BEGIN:VEVENT
DTSTART;TZID=America/Los_Angeles:20220806T120000
DTEND;TZID=America/Los_Angeles:20220806T230000
DTSTAMP:20260420T192400
CREATED:20220302T001759Z
LAST-MODIFIED:20220302T091844Z
UID:20611-1659787200-1659826800@pacific-crest.org
SUMMARY:DCI Eastern Classic
DESCRIPTION:DCI Eastern Classic
URL:https://pacific-crest.org/event/dci-eastern-classic/
LOCATION:J. Birney Crum Stadium\, 2027 Linden Street\, Allentown\, PA\, 18104\, United States
CATEGORIES:Show Day
END:VEVENT
BEGIN:VEVENT
DTSTART;TZID=America/Los_Angeles:20220802T120000
DTEND;TZID=America/Los_Angeles:20220802T230000
DTSTAMP:20260420T192400
CREATED:20220302T001627Z
LAST-MODIFIED:20220302T092034Z
UID:20609-1659441600-1659481200@pacific-crest.org
SUMMARY:DCI Summer Music Games of Southwest Virginia
DESCRIPTION:DCI Summer Music Games of Southwest Virginia
URL:https://pacific-crest.org/event/dci-smg-southwest-virginia/
LOCATION:Salem Stadium\, 1008 Texas St\, Salem\, VA\, 24153\, United States
CATEGORIES:Show Day
END:VEVENT
BEGIN:VEVENT
DTSTART;TZID=America/Los_Angeles:20220801T120000
DTEND;TZID=America/Los_Angeles:20220801T230000
DTSTAMP:20260420T192401
CREATED:20220302T001228Z
LAST-MODIFIED:20220709T044614Z
UID:20607-1659355200-1659394800@pacific-crest.org
SUMMARY:DCI West Virginia
DESCRIPTION:DCI West Virginia
URL:https://pacific-crest.org/event/dci-west-virginia/
LOCATION:Joan C Edwards Stadium\, 2001 3rd Avenue\, Huntington\, WV\, 25703\, United States
CATEGORIES:Show Day
END:VEVENT
BEGIN:VEVENT
DTSTART;TZID=America/Los_Angeles:20220731T120000
DTEND;TZID=America/Los_Angeles:20220731T230000
DTSTAMP:20260420T192401
CREATED:20220302T001012Z
LAST-MODIFIED:20220302T224733Z
UID:20604-1659268800-1659308400@pacific-crest.org
SUMMARY:DCI NightBEAT
DESCRIPTION:DCI NightBEAT
URL:https://pacific-crest.org/event/dci-night-beat/
LOCATION:Truist Field at Wake Forest\, 499 Deacon Blvd\, Winston-Salem\, NC\, 27105\, United States
CATEGORIES:Show Day
END:VEVENT
BEGIN:VEVENT
DTSTART;TZID=America/Los_Angeles:20220729T120000
DTEND;TZID=America/Los_Angeles:20220729T230000
DTSTAMP:20260420T192401
CREATED:20220302T000747Z
LAST-MODIFIED:20220302T224749Z
UID:20602-1659096000-1659135600@pacific-crest.org
SUMMARY:DCI Birmingham
DESCRIPTION:DCI Birmingham
URL:https://pacific-crest.org/event/dci-birmingham/
LOCATION:Hewitt Trussville Football Stadium\, 5469 Trussville Clay Road\, Trussville\, AL\, 35173\, United States
CATEGORIES:Show Day
END:VEVENT
BEGIN:VEVENT
DTSTART;TZID=America/Los_Angeles:20220725T120000
DTEND;TZID=America/Los_Angeles:20220725T230000
DTSTAMP:20260420T192401
CREATED:20220302T000620Z
LAST-MODIFIED:20220302T224812Z
UID:20599-1658750400-1658790000@pacific-crest.org
SUMMARY:DCI Mesquite
DESCRIPTION:DCI Mesquite
URL:https://pacific-crest.org/event/dci-mesquite/
LOCATION:Mesquite Memorial Stadium\, 2411 W. Scyene Rd.\, Mesquite\, 75149
CATEGORIES:Show Day
END:VEVENT
BEGIN:VEVENT
DTSTART;TZID=America/Los_Angeles:20220723T120000
DTEND;TZID=America/Los_Angeles:20220723T230000
DTSTAMP:20260420T192401
CREATED:20220302T000353Z
LAST-MODIFIED:20220302T000353Z
UID:20597-1658577600-1658617200@pacific-crest.org
SUMMARY:DCI Southwestern Championship
DESCRIPTION:DCI Southwestern Championship
URL:https://pacific-crest.org/event/dci-southwestern-championship/
LOCATION:Alamo Dome\, 100 Montana Street\, San Antonio\, TX\, 78203\, United States
CATEGORIES:Show Day
END:VEVENT
BEGIN:VEVENT
DTSTART;TZID=America/Los_Angeles:20220721T160000
DTEND;TZID=America/Los_Angeles:20220721T230000
DTSTAMP:20260420T192401
CREATED:20220301T215004Z
LAST-MODIFIED:20220302T224839Z
UID:20539-1658419200-1658444400@pacific-crest.org
SUMMARY:DCI Austin
DESCRIPTION:DCI Austin
URL:https://pacific-crest.org/event/dci-austin/
LOCATION:Kelly Reeves Athletic Complex\, 10211 W. Parmer Lane\, Austin\, TX\, 78717\, United States
CATEGORIES:Show Day
END:VEVENT
BEGIN:VEVENT
DTSTART;TZID=America/Los_Angeles:20220719T080000
DTEND;TZID=America/Los_Angeles:20220719T170000
DTSTAMP:20260420T192401
CREATED:20220301T193114Z
LAST-MODIFIED:20220709T043316Z
UID:20533-1658217600-1658250000@pacific-crest.org
SUMMARY:DCI Oklahoma
DESCRIPTION:DCI Oklahoma
URL:https://pacific-crest.org/event/dci-northern-texas/
LOCATION:Cameron University Stadium\, 2800 W Gore Blvd\,\, Lawton\, OK\, 73505\, United States
CATEGORIES:Show Day
END:VEVENT
BEGIN:VEVENT
DTSTART;TZID=America/Los_Angeles:20220718T190000
DTEND;TZID=America/Los_Angeles:20220718T220000
DTSTAMP:20260420T192401
CREATED:20211228T163444Z
LAST-MODIFIED:20211228T163444Z
UID:19971-1658170800-1658181600@pacific-crest.org
SUMMARY:DCI West Texas Drums
DESCRIPTION:
URL:https://pacific-crest.org/event/dci-west-texas-drums/
LOCATION:Buffalo Stadium at West Texas A&M\, 2501 4th Ave\, Canyon\, TX\, 79016\, United States
CATEGORIES:Show Day
END:VEVENT
BEGIN:VEVENT
DTSTART;TZID=America/Los_Angeles:20220710T180000
DTEND;TZID=America/Los_Angeles:20220710T230000
DTSTAMP:20260420T192401
CREATED:20211228T163036Z
LAST-MODIFIED:20211228T163036Z
UID:19968-1657476000-1657494000@pacific-crest.org
SUMMARY:DCI West
DESCRIPTION:
URL:https://pacific-crest.org/event/dci-west/
LOCATION:Stanford  Stadium\, 625 Nelson Rd\, Stanford\, CA\, 94305\, United States
CATEGORIES:Show Day
END:VEVENT
BEGIN:VEVENT
DTSTART;TZID=America/Los_Angeles:20220708T160000
DTEND;TZID=America/Los_Angeles:20220708T230000
DTSTAMP:20260420T192401
CREATED:20220301T191606Z
LAST-MODIFIED:20220622T025735Z
UID:20504-1657296000-1657321200@pacific-crest.org
SUMMARY:Capitol Classic Show - Sacramento
DESCRIPTION:Capitol Classic Show – Sacramento
URL:https://pacific-crest.org/event/capitol-classic-show-sacramento/
LOCATION:Sacramento State University\, 6000 J St\, Sacramento\, CA\, 95819
CATEGORIES:Show Day
END:VEVENT
BEGIN:VEVENT
DTSTART;TZID=America/Los_Angeles:20220704T070000
DTEND;TZID=America/Los_Angeles:20220704T130000
DTSTAMP:20260420T192401
CREATED:20220301T191009Z
LAST-MODIFIED:20220301T191009Z
UID:20498-1656918000-1656939600@pacific-crest.org
SUMMARY:Moreno Valley July 4th Parade
DESCRIPTION:Moreno Vslley July 4th Parade \n 
URL:https://pacific-crest.org/event/moreno-valley-july-4th-parade/
LOCATION:City of Moreno Valley\, Moreno Valley\, CA\, 92551\, United States
CATEGORIES:Show Day
END:VEVENT
BEGIN:VEVENT
DTSTART;TZID=America/Los_Angeles:20220702T190000
DTEND;TZID=America/Los_Angeles:20220702T220000
DTSTAMP:20260420T192401
CREATED:20211228T162513Z
LAST-MODIFIED:20220302T225007Z
UID:19963-1656788400-1656799200@pacific-crest.org
SUMMARY:DCI Tempe Show
DESCRIPTION:
URL:https://pacific-crest.org/event/dci-tempe-show/
LOCATION:Sun Devil Stadium at Arizona State University\, 500 E Veterans Way\, Tempe\, AZ\, 85287\, United States
CATEGORIES:Show Day
END:VEVENT
BEGIN:VEVENT
DTSTART;TZID=America/Los_Angeles:20220626T180000
DTEND;TZID=America/Los_Angeles:20220626T230000
DTSTAMP:20260420T192401
CREATED:20211226T162518Z
LAST-MODIFIED:20211226T162518Z
UID:19961-1656266400-1656284400@pacific-crest.org
SUMMARY:Western Corps Connection
DESCRIPTION:
URL:https://pacific-crest.org/event/western-corps-connection/
LOCATION:San Bernardino Valley College\, 701 S Mt Vernon Ave\, San Bernardino\, CA\, 92410
CATEGORIES:Show Day
END:VEVENT
BEGIN:VEVENT
DTSTART;TZID=America/Los_Angeles:20220625T180000
DTEND;TZID=America/Los_Angeles:20220625T230000
DTSTAMP:20260420T192401
CREATED:20211226T162323Z
LAST-MODIFIED:20211226T162323Z
UID:19959-1656180000-1656198000@pacific-crest.org
SUMMARY:Drum Corps at the Rose Bowl
DESCRIPTION:
URL:https://pacific-crest.org/event/drum-corps-at-the-rose-bowl/
LOCATION:Rose Bowl Stadium\, 1001 Rose Bowl Dr.\, Pasadena\, CA\, 91103\, United States
CATEGORIES:Show Day
END:VEVENT
BEGIN:VEVENT
DTSTART;TZID=America/Los_Angeles:20220624T180000
DTEND;TZID=America/Los_Angeles:20220624T220000
DTSTAMP:20260420T192401
CREATED:20211226T162221Z
LAST-MODIFIED:20220622T025527Z
UID:19957-1656093600-1656108000@pacific-crest.org
SUMMARY:Corps at the Crest San Diego
DESCRIPTION:
URL:https://pacific-crest.org/event/corps-at-the-crest-san-diego/
LOCATION:Rancho Buena VIsta High School\, 1601 Longhorn Dr\, Vista\, CA\, 92081
CATEGORIES:Show Day
END:VEVENT
BEGIN:VEVENT
DTSTART;TZID=America/Los_Angeles:20220618T190000
DTEND;TZID=America/Los_Angeles:20220618T220000
DTSTAMP:20260420T192401
CREATED:20211226T162022Z
LAST-MODIFIED:20211226T162022Z
UID:19955-1655578800-1655589600@pacific-crest.org
SUMMARY:SoCal Drum Corps Sneak Preview
DESCRIPTION:SoCal Sneak Preview
URL:https://pacific-crest.org/event/socal-drum-corps-sneak-preview-3/
LOCATION:Vista del Lago High School\, 15150 Lasselle St\, Moreno Valley\, CA\, 92551\, United States
CATEGORIES:Show Day
END:VEVENT
BEGIN:VEVENT
DTSTART;TZID=America/Los_Angeles:20220610T200000
DTEND;TZID=America/Los_Angeles:20220610T210000
DTSTAMP:20260420T192401
CREATED:20211225T161251Z
LAST-MODIFIED:20211225T161251Z
UID:19937-1654891200-1654894800@pacific-crest.org
SUMMARY:Community Performance (Tentative)
DESCRIPTION:Community performance – open to the public
URL:https://pacific-crest.org/event/community-performance-tentative/
LOCATION:Charter Oak HIgh School\, 1430 E Covina Blvd\, Covina\, CA\, 91724
CATEGORIES:Show Day
END:VEVENT
END:VCALENDAR